BEGIN:VCALENDAR
VERSION:2.0
PRODID:-//neconserve.org//NONSGML kigkonsult.se iCalcreator 2.30.10//
CALSCALE:GREGORIAN
METHOD:PUBLISH
UID:0ba86aff-9cc4-4ba1-a951-2a249ca829ee
X-WR-CALDESC:Join Conservation Nebraska for our next monthly Omaha Clean-Up
 !\n\nFind our feather flag at Stinson Park at 5:00pm. We will be cleaning 
 up Little Papio Creek along the Keystone Trail and meet back at Stinson Pa
 rk by 6pm. Closed-toe shoes and reusable water bottles are encouraged for 
 you to bring. Please dress according to the weather.\n\nClean-up supplies 
 and snacks will be provided (safety vests\, grabbers\, bags\, gloves\, etc
 .)
X-WR-RELCALID:4f6ab5cdaaa3a980bc12176863698efe
X-WR-TIMEZONE:America/Chicago
BEGIN:VTIMEZONE
TZID:America/Chicago
BEGIN:STANDARD
TZNAME:CST
DTSTART:20251102T020000
TZOFFSETFROM:-0500
TZOFFSETTO:-0600
RDATE:20261101T020000
RDATE:20271107T020000
END:STANDARD
BEGIN:DAYLIGHT
TZNAME:CDT
DTSTART:20260308T020000
TZOFFSETFROM:-0600
TZOFFSETTO:-0500
RDATE:20270314T020000
END:DAYLIGHT
END:VTIMEZONE
BEGIN:VEVENT
UID:6b481648-c33b-4e27-b287-d429a8d51157
DTSTAMP:20260421T025142Z
DESCRIPTION:Join Conservation Nebraska for our next monthly Omaha Clean-Up!
 \n\nFind our feather flag at Stinson Park at 5:00pm. We will be cleaning u
 p Little Papio Creek along the Keystone Trail and meet back at Stinson Par
 k by 6pm. Closed-toe shoes and reusable water bottles are encouraged for y
 ou to bring. Please dress according to the weather.\n\nClean-up supplies a
 nd snacks will be provided (safety vests\, grabbers\, bags\, gloves\, etc.
 )
DTSTART;TZID=America/Chicago:20260529T170000
DTEND;TZID=America/Chicago:20260529T180000
LOCATION:Stinson Park\, Omaha\, NE
SUMMARY:Omaha Cleanup
END:VEVENT
END:VCALENDAR
