BEGIN:VCALENDAR
VERSION:2.0
PRODID:-//neconserve.org//NONSGML kigkonsult.se iCalcreator 2.30.10//
CALSCALE:GREGORIAN
METHOD:PUBLISH
UID:e613862a-f8ac-439e-8951-047fe081fa4b
X-WR-CALDESC:Celebrate the joy of spring with us at our free May Day Basket
  Making Event! Join friends\, neighbors\, and community members for a crea
 tive and meaningful gathering where we’ll craft beautiful May Day baskets 
 filled with seasonal cheer.\n\nThis special “Make One to Give\, Make One t
 o Take” event invites each participant to create two baskets\, one to keep
  and enjoy at home\, and one to donate to Nye Summit in Louisville to brig
 hten a resident’s day. It’s a wonderful way to share kindness while also t
 aking part in a beloved spring tradition yourself.\n\nAll materials will b
 e provided. Let us know you're coming by registering in advance: https://s
 ecure.ngpvan.com/ZBCqk1wCT0iilD0-3WnBkA2\n\nCome enjoy a relaxed atmospher
 e filled with creativity\, connection\, and purpose. You’ll leave with som
 ething beautiful and the knowledge that you’ve made a difference in someon
 e’s day.\n\nLet’s celebrate May Day by spreading joy one basket at a time!
  \n
X-WR-RELCALID:32aa958ba00406add738461119ebede1
X-WR-TIMEZONE:America/Chicago
BEGIN:VTIMEZONE
TZID:America/Chicago
BEGIN:STANDARD
TZNAME:CST
DTSTART:20251102T020000
TZOFFSETFROM:-0500
TZOFFSETTO:-0600
RDATE:20261101T020000
END:STANDARD
BEGIN:DAYLIGHT
TZNAME:CDT
DTSTART:20260308T020000
TZOFFSETFROM:-0600
TZOFFSETTO:-0500
RDATE:20270314T020000
END:DAYLIGHT
END:VTIMEZONE
BEGIN:VEVENT
UID:ad90e2a8-800c-4c07-a335-da1b3b2b79e5
DTSTAMP:20260422T005636Z
DESCRIPTION:Celebrate the joy of spring with us at our free May Day Basket 
 Making Event! Join friends\, neighbors\, and community members for a creat
 ive and meaningful gathering where we’ll craft beautiful May Day baskets f
 illed with seasonal cheer.\n\nThis special “Make One to Give\, Make One to
  Take” event invites each participant to create two baskets\, one to keep 
 and enjoy at home\, and one to donate to Nye Summit in Louisville to brigh
 ten a resident’s day. It’s a wonderful way to share kindness while also ta
 king part in a beloved spring tradition yourself.\n\nAll materials will be
  provided. Let us know you're coming by registering in advance: https://se
 cure.ngpvan.com/ZBCqk1wCT0iilD0-3WnBkA2\n\nCome enjoy a relaxed atmosphere
  filled with creativity\, connection\, and purpose. You’ll leave with some
 thing beautiful and the knowledge that you’ve made a difference in someone
 ’s day.\n\nLet’s celebrate May Day by spreading joy one basket at a time! 
 \n
DTSTART;TZID=America/Chicago:20260428T160000
DTEND;TZID=America/Chicago:20260428T180000
LOCATION:Elmwood Public Library\, 124 W D St\, Elmwood\, NE 68349 US
SUMMARY:May Day Basket Making
END:VEVENT
END:VCALENDAR
