BEGIN:VCALENDAR
VERSION:2.0
PRODID:-//neconserve.org//NONSGML kigkonsult.se iCalcreator 2.30.10//
CALSCALE:GREGORIAN
METHOD:PUBLISH
UID:8ec4c4c8-5c93-4de5-85d2-cb4599228980
X-WR-CALDESC:Join Conservation Nebraska for our next monthly Omaha Clean-Up
 !\n\nFind our feather flag at Stinson Park at 5:00pm. We will be cleaning 
 up Little Papio Creek along the Keystone Trail and meet back at Stinson Pa
 rk by 6pm. Closed-toe shoes and reusable water bottles are encouraged for 
 you to bring. Please dress according to the weather.\n\nClean-up supplies 
 and snacks will be provided (safety vests\, grabbers\, bags\, gloves\, etc
 .)
X-WR-RELCALID:c41fd33914cb1d7f01add1b9d5ecea5c
X-WR-TIMEZONE:America/Chicago
BEGIN:VTIMEZONE
TZID:America/Chicago
BEGIN:STANDARD
TZNAME:CST
DTSTART:20251102T020000
TZOFFSETFROM:-0500
TZOFFSETTO:-0600
RDATE:20261101T020000
END:STANDARD
BEGIN:DAYLIGHT
TZNAME:CDT
DTSTART:20260308T020000
TZOFFSETFROM:-0600
TZOFFSETTO:-0500
RDATE:20270314T020000
END:DAYLIGHT
END:VTIMEZONE
BEGIN:VEVENT
UID:4dd039eb-5936-4f00-9119-084f3122cb37
DTSTAMP:20260421T095503Z
DESCRIPTION:Join Conservation Nebraska for our next monthly Omaha Clean-Up!
 \n\nFind our feather flag at Stinson Park at 5:00pm. We will be cleaning u
 p Little Papio Creek along the Keystone Trail and meet back at Stinson Par
 k by 6pm. Closed-toe shoes and reusable water bottles are encouraged for y
 ou to bring. Please dress according to the weather.\n\nClean-up supplies a
 nd snacks will be provided (safety vests\, grabbers\, bags\, gloves\, etc.
 )
DTSTART;TZID=America/Chicago:20260424T170000
DTEND;TZID=America/Chicago:20260424T180000
LOCATION:Stinson Park\, Omaha\, NE
SUMMARY:Omaha Cleanup
END:VEVENT
END:VCALENDAR
