BEGIN:VCALENDAR
VERSION:2.0
PRODID:-//neconserve.org//NONSGML kigkonsult.se iCalcreator 2.30.10//
CALSCALE:GREGORIAN
METHOD:PUBLISH
UID:b58cca7a-5b39-4549-a6da-69d466f09a0e
X-WR-CALDESC:Are you interested in the environment? Are you looking to make
  connections with others in your community that share your interest? Join 
 us at our very first Lincoln Sip & Share!\n\nThis event is a great way to 
 meet new people within your community and share your interests\, concerns\
 , and ideas regarding conservation in your area.\n\nAt the beginning of th
 e event\, we will have a brief period of time for anyone to share environm
 ental stories or updates that they find fun\, interesting\, or important\,
  so feel free to arrive with something to share!\n\nAttendance is free and
  open to anyone who cares about conservation. Refreshments will also be pr
 ovided for attendees. \n\nIf you require parking\, please take a moment to
  look at the map in the discussion where public parking (pink spots) near 
 the event venue have been highlighted. If you would like to view the origi
 nal map\, please visit https://parking.unl.edu/sites/unl.edu.business-and-
 finance.parking/files/media/file/East-Campus-Parking-Map.pdf\n\nLet us kno
 w you're coming by registering in advance: https://secure.ngpvan.com/KzD4w
 mQU-0O6V17dYD1g-g2\n\nDon't miss out!
X-WR-RELCALID:fb98427ad2000da9fc8dc045062a8221
X-WR-TIMEZONE:America/Chicago
BEGIN:VTIMEZONE
TZID:America/Chicago
BEGIN:STANDARD
TZNAME:CST
DTSTART:20251102T020000
TZOFFSETFROM:-0500
TZOFFSETTO:-0600
RDATE:20261101T020000
END:STANDARD
BEGIN:DAYLIGHT
TZNAME:CDT
DTSTART:20260308T020000
TZOFFSETFROM:-0600
TZOFFSETTO:-0500
RDATE:20270314T020000
END:DAYLIGHT
END:VTIMEZONE
BEGIN:VEVENT
UID:d345a99f-8319-4e34-be65-975150244527
DTSTAMP:20260421T105449Z
DESCRIPTION:Are you interested in the environment? Are you looking to make 
 connections with others in your community that share your interest? Join u
 s at our very first Lincoln Sip & Share!\n\nThis event is a great way to m
 eet new people within your community and share your interests\, concerns\,
  and ideas regarding conservation in your area.\n\nAt the beginning of the
  event\, we will have a brief period of time for anyone to share environme
 ntal stories or updates that they find fun\, interesting\, or important\, 
 so feel free to arrive with something to share!\n\nAttendance is free and 
 open to anyone who cares about conservation. Refreshments will also be pro
 vided for attendees. \n\nIf you require parking\, please take a moment to 
 look at the map in the discussion where public parking (pink spots) near t
 he event venue have been highlighted. If you would like to view the origin
 al map\, please visit https://parking.unl.edu/sites/unl.edu.business-and-f
 inance.parking/files/media/file/East-Campus-Parking-Map.pdf\n\nLet us know
  you're coming by registering in advance: https://secure.ngpvan.com/KzD4wm
 QU-0O6V17dYD1g-g2\n\nDon't miss out!
DTSTART;TZID=America/Chicago:20260411T120000
DTEND;TZID=America/Chicago:20260411T140000
LOCATION:Nebraska East Union Prairie Suite A\, 1705 Arbor Dr\, Lincoln\, NE
  68503
SUMMARY:Lincoln Sip & Share
END:VEVENT
END:VCALENDAR
