BEGIN:VCALENDAR
VERSION:2.0
PRODID:-//neconserve.org//NONSGML kigkonsult.se iCalcreator 2.30.10//
CALSCALE:GREGORIAN
METHOD:PUBLISH
UID:e034b966-99f8-4651-9337-b6bc248601c4
X-WR-CALDESC:Conservation Nebraska\, in partnership with First Star Recycli
 ng\, invites you to the First Star Recycling Center Tour. See the inside o
 f their recycling facility and get the inside scoop on what happens to you
 r bottles and cans after they get hauled away. You will have the opportuni
 ty to tour the facility and get your recycling questions answered. \n\nThi
 s free tour will be led by Dale Gubbels\, founder and former president\, C
 EO\, and Director of Business Development of Firstar Fiber Recycling.\n\nS
 pace is limited\, and registration is required. Please register here: http
 s://secure.ngpvan.com/k_XCuC8R-EufkvwymL2dkQ2\n\nWear closed toed shoes an
 d clothing appropriate for cool temperatures. Please note: due to the indu
 strial nature of the facility\, we ask that one or two adults accompany at
 tendees under the age of 12.\n\nUpon arrival\, use the entrance closest to
  102nd street near to the blue recycling bins\, and look for the Conservat
 ion Nebraska feather flag. Park in the visitor lot.
X-WR-RELCALID:2f5e6a3b63477945e691a4c310d199bd
X-WR-TIMEZONE:America/Chicago
BEGIN:VTIMEZONE
TZID:America/Chicago
BEGIN:STANDARD
TZNAME:CST
DTSTART:20251102T020000
TZOFFSETFROM:-0500
TZOFFSETTO:-0600
RDATE:20261101T020000
END:STANDARD
BEGIN:DAYLIGHT
TZNAME:CDT
DTSTART:20260308T020000
TZOFFSETFROM:-0600
TZOFFSETTO:-0500
RDATE:20270314T020000
END:DAYLIGHT
END:VTIMEZONE
BEGIN:VEVENT
UID:9420b113-32ef-4066-9faf-bbabd9f17073
DTSTAMP:20260421T100003Z
DESCRIPTION:Conservation Nebraska\, in partnership with First Star Recyclin
 g\, invites you to the First Star Recycling Center Tour. See the inside of
  their recycling facility and get the inside scoop on what happens to your
  bottles and cans after they get hauled away. You will have the opportunit
 y to tour the facility and get your recycling questions answered. \n\nThis
  free tour will be led by Dale Gubbels\, founder and former president\, CE
 O\, and Director of Business Development of Firstar Fiber Recycling.\n\nSp
 ace is limited\, and registration is required. Please register here: https
 ://secure.ngpvan.com/k_XCuC8R-EufkvwymL2dkQ2\n\nWear closed toed shoes and
  clothing appropriate for cool temperatures. Please note: due to the indus
 trial nature of the facility\, we ask that one or two adults accompany att
 endees under the age of 12.\n\nUpon arrival\, use the entrance closest to 
 102nd street near to the blue recycling bins\, and look for the Conservati
 on Nebraska feather flag. Park in the visitor lot.
DTSTART;TZID=America/Chicago:20260411T100000
DTEND;TZID=America/Chicago:20260411T120000
LOCATION:First Star Recycling\, 10330 I St\, Omaha\, NE 68127 US
SUMMARY:First Star Recycling Center Tour
END:VEVENT
END:VCALENDAR
