BEGIN:VCALENDAR
VERSION:2.0
PRODID:-//neconserve.org//NONSGML kigkonsult.se iCalcreator 2.30.10//
CALSCALE:GREGORIAN
METHOD:PUBLISH
UID:d221c9ab-39f2-4d41-bc25-9b723a63be23
X-WR-CALDESC:Are you interested in reducing your energy use? Do you want to
  learn about different ways that you can help lower your energy bills whil
 e helping your utility?\n\nIf so\, OPPD and Conservation Nebraska invite y
 ou to join us as we hear Eric BenSalah\, energy advisor and educator for O
 PPD\, talk about what demand-side management is\, how it benefits both uti
 lities and customers\, and the various programs OPPD offers to encourage c
 ustomers to reduce their energy demand and potentially save money on their
  bills.\n\nThis event will be held virtually on Thursday\, April 9th start
 ing at 6:00 PM. There will be time for Q&A following the presentation.\n\n
 Register in advance for this webinar:\nhttps://us02web.zoom.us/webinar/reg
 ister/WN_0Kqc_PjVRiO-xXLR0VGSbg
X-WR-RELCALID:b4d717e48396d73596825c3f69612f0d
X-WR-TIMEZONE:America/Chicago
BEGIN:VTIMEZONE
TZID:America/Chicago
BEGIN:STANDARD
TZNAME:CST
DTSTART:20251102T020000
TZOFFSETFROM:-0500
TZOFFSETTO:-0600
RDATE:20261101T020000
END:STANDARD
BEGIN:DAYLIGHT
TZNAME:CDT
DTSTART:20260308T020000
TZOFFSETFROM:-0600
TZOFFSETTO:-0500
RDATE:20270314T020000
END:DAYLIGHT
END:VTIMEZONE
BEGIN:VEVENT
UID:46d4f811-c1d4-41ba-8121-4a62966b6551
DTSTAMP:20260421T095419Z
DESCRIPTION:Are you interested in reducing your energy use? Do you want to 
 learn about different ways that you can help lower your energy bills while
  helping your utility?\n\nIf so\, OPPD and Conservation Nebraska invite yo
 u to join us as we hear Eric BenSalah\, energy advisor and educator for OP
 PD\, talk about what demand-side management is\, how it benefits both util
 ities and customers\, and the various programs OPPD offers to encourage cu
 stomers to reduce their energy demand and potentially save money on their 
 bills.\n\nThis event will be held virtually on Thursday\, April 9th starti
 ng at 6:00 PM. There will be time for Q&A following the presentation.\n\nR
 egister in advance for this webinar:\nhttps://us02web.zoom.us/webinar/regi
 ster/WN_0Kqc_PjVRiO-xXLR0VGSbg
DTSTART;TZID=America/Chicago:20260409T180000
DTEND;TZID=America/Chicago:20260409T190000
LOCATION:https://us02web.zoom.us/webinar/register/WN_0Kqc_PjVRiO-xXLR0VGSbg
SUMMARY:Public Power: An Overview of OPPD's Demand-side Management Programs
END:VEVENT
END:VCALENDAR
