BEGIN:VCALENDAR
VERSION:2.0
PRODID:-//neconserve.org//NONSGML kigkonsult.se iCalcreator 2.30.10//
CALSCALE:GREGORIAN
METHOD:PUBLISH
UID:1c452828-fc06-4674-851f-863862abfaf7
X-WR-CALDESC:Join Conservation Nebraska for a free\, fun\, and educational 
 event with UNL Professor Dennis Ferraro. The event will take place at Hard
 in Hall\, Room 107\, 3310 Holdrege Street\, Lincoln\, NE 68583.\n\nLearn m
 ore about the issues facing native snake species and the efforts being mad
 e to protect native habitats and snakes.\n\nRegistration is required: http
 s://secure.ngpvan.com/guJ_N58q30iFFyaeAbyYGw2\n\nPlease note: If you are n
 ot affiliated with the University of Nebraska and do not have a parking pe
 rmit we will provide you with an Occasional Permit. There will be a table 
 at the front of the Hardin Hall lot where you can pick up your permit to p
 lace in your vehicle. The permit allows you to park in any unmarked spot i
 n the Red A lot. Do not park in reserved\, metered\, visitor\, or otherwis
 e marked spaces.\n\nAbout the Speaker\nDennis Ferraro is a professor at UN
 L and the Lead Principal Investigator at the UNL
X-WR-RELCALID:260b922a7832e6163382a5cec5243de2
X-WR-TIMEZONE:America/Chicago
BEGIN:VTIMEZONE
TZID:America/Chicago
BEGIN:STANDARD
TZNAME:CST
DTSTART:20251102T020000
TZOFFSETFROM:-0500
TZOFFSETTO:-0600
RDATE:20261101T020000
END:STANDARD
BEGIN:DAYLIGHT
TZNAME:CDT
DTSTART:20260308T020000
TZOFFSETFROM:-0600
TZOFFSETTO:-0500
RDATE:20270314T020000
END:DAYLIGHT
END:VTIMEZONE
BEGIN:VEVENT
UID:234700af-85b2-41fb-baea-15265f6e0fe5
DTSTAMP:20260421T100035Z
DESCRIPTION:Join Conservation Nebraska for a free\, fun\, and educational e
 vent with UNL Professor Dennis Ferraro. The event will take place at Hardi
 n Hall\, Room 107\, 3310 Holdrege Street\, Lincoln\, NE 68583.\n\nLearn mo
 re about the issues facing native snake species and the efforts being made
  to protect native habitats and snakes.\n\nRegistration is required: https
 ://secure.ngpvan.com/guJ_N58q30iFFyaeAbyYGw2\n\nPlease note: If you are no
 t affiliated with the University of Nebraska and do not have a parking per
 mit we will provide you with an Occasional Permit. There will be a table a
 t the front of the Hardin Hall lot where you can pick up your permit to pl
 ace in your vehicle. The permit allows you to park in any unmarked spot in
  the Red A lot. Do not park in reserved\, metered\, visitor\, or otherwise
  marked spaces.\n\nAbout the Speaker\nDennis Ferraro is a professor at UNL
  and the Lead Principal Investigator at the UNL
DTSTART;TZID=America/Chicago:20260406T180000
DTEND;TZID=America/Chicago:20260406T190000
LOCATION:Hardin Hall\, 3310 Holdrege St\, Lincoln\, NE 68583 US
SUMMARY:Snakes of Nebraska
END:VEVENT
END:VCALENDAR
