BEGIN:VCALENDAR
VERSION:2.0
PRODID:-//neconserve.org//NONSGML kigkonsult.se iCalcreator 2.30.10//
CALSCALE:GREGORIAN
METHOD:PUBLISH
UID:04ba05ef-b77b-4444-b616-2bc3d438833a
X-WR-CALDESC:Join Conservation Nebraska\, Upper Big Blue Natural Resources 
 District\, and Natural Resources Conservation Service for an interactive a
 nd educational Soil Health & Community Garden Workshop! \n\nThis free comm
 unity event is designed to educate and engage participants in understandin
 g the importance of healthy soil for productive gardens and sustainable la
 ndscapes. Whether you're a seasoned gardener or just getting started\, you
 ’ll gain practical knowledge and hands-on experience. \n\nWhat You’ll Lear
 n & Experience: \n🌱Understanding soil health fundamentals — including pH\,
  structure\, and fertility \n🧪Live demonstrations of soil testing techniqu
 es \n🌧A rain simulator demonstration showing how different soil types resp
 ond to rainfall \n🌻Sustainable gardening practices you can apply at home o
 r in community spaces \n🤝Opportunities for community engagement and knowle
 dge sharing \n\nParticipants will also help generate baseline soil data fo
 r the garden while learning how soil impacts plant growth and water manage
 ment. \n\n***Please note\, due to capacity limitations\, only the first 20
  soil samples that arrive at the event will receive testing.***\n\nThe wor
 kshop will highlight Project GROW\, bringing awareness to this community s
 pace and its role in promoting local conservation and gardening efforts. 
 \n\nCome learn\, connect\, and grow with us — and enjoy a free lunch while
  you’re here! \n\nSpace is limited and registration is required: https://s
 ecure.ngpvan.com/9OTuFUB0h0SWtSCkhR7S8g2
X-WR-RELCALID:b792d94fe2473704ff79732e91306dd0
X-WR-TIMEZONE:America/Chicago
BEGIN:VTIMEZONE
TZID:America/Chicago
BEGIN:STANDARD
TZNAME:CST
DTSTART:20251102T020000
TZOFFSETFROM:-0500
TZOFFSETTO:-0600
RDATE:20261101T020000
END:STANDARD
BEGIN:DAYLIGHT
TZNAME:CDT
DTSTART:20260308T020000
TZOFFSETFROM:-0600
TZOFFSETTO:-0500
RDATE:20270314T020000
END:DAYLIGHT
END:VTIMEZONE
BEGIN:VEVENT
UID:a763cec3-d4d2-4caf-98a0-8c01b6d6b307
DTSTAMP:20260421T095812Z
DESCRIPTION:Join Conservation Nebraska\, Upper Big Blue Natural Resources D
 istrict\, and Natural Resources Conservation Service for an interactive an
 d educational Soil Health & Community Garden Workshop! \n\nThis free commu
 nity event is designed to educate and engage participants in understanding
  the importance of healthy soil for productive gardens and sustainable lan
 dscapes. Whether you're a seasoned gardener or just getting started\, you’
 ll gain practical knowledge and hands-on experience. \n\nWhat You’ll Learn
  & Experience: \n🌱Understanding soil health fundamentals — including pH\, 
 structure\, and fertility \n🧪Live demonstrations of soil testing technique
 s \n🌧A rain simulator demonstration showing how different soil types respo
 nd to rainfall \n🌻Sustainable gardening practices you can apply at home or
  in community spaces \n🤝Opportunities for community engagement and knowled
 ge sharing \n\nParticipants will also help generate baseline soil data for
  the garden while learning how soil impacts plant growth and water managem
 ent. \n\n***Please note\, due to capacity limitations\, only the first 20 
 soil samples that arrive at the event will receive testing.***\n\nThe work
 shop will highlight Project GROW\, bringing awareness to this community sp
 ace and its role in promoting local conservation and gardening efforts. \n
 \nCome learn\, connect\, and grow with us — and enjoy a free lunch while y
 ou’re here! \n\nSpace is limited and registration is required: https://sec
 ure.ngpvan.com/9OTuFUB0h0SWtSCkhR7S8g2
DTSTART;TZID=America/Chicago:20260402T110000
DTEND;TZID=America/Chicago:20260402T130000
LOCATION:Project GROW garden space\, near 12th Street and Rd N\, York\, NE
SUMMARY:Soil Health and Garden Workshop
END:VEVENT
END:VCALENDAR
