BEGIN:VCALENDAR
VERSION:2.0
PRODID:-//neconserve.org//NONSGML kigkonsult.se iCalcreator 2.30.10//
CALSCALE:GREGORIAN
METHOD:PUBLISH
UID:22275628-0373-4855-8c62-57c620a0cde3
X-WR-CALDESC:Join Conservation Nebraska and Lauren Salick from Nebraska Wil
 dlife Rehab for an engaging presentation on turtles. \n\nHow did turtles e
 volve? What is in the anatomy of a shell? This program addresses basic che
 lonian biology as well as an introduction to the shelled friends who call 
 Nebraska home. \n\nRegister in advance for this webinar:\nhttps://us02web.
 zoom.us/webinar/register/WN_cxdkjttcQYaZxPlW1tOU0Q\n\n\nAbout the speaker:
 \nLauren Salick holds a Bachelor of Science in Animal Science from Iowa St
 ate University and a Masters of Arts in Natural Science and Environmental 
 Education from Hamline University. Her goal is to generate passion and res
 pect for wild animals across all demographics by creating personal experie
 nces and bonds between people and our natural world.
X-WR-RELCALID:7d67291f62fb1de755f1c9b96424bd63
X-WR-TIMEZONE:America/Chicago
BEGIN:VTIMEZONE
TZID:America/Chicago
BEGIN:STANDARD
TZNAME:CST
DTSTART:20251102T020000
TZOFFSETFROM:-0500
TZOFFSETTO:-0600
RDATE:20261101T020000
END:STANDARD
BEGIN:DAYLIGHT
TZNAME:CDT
DTSTART:20250309T020000
TZOFFSETFROM:-0600
TZOFFSETTO:-0500
RDATE:20260308T020000
RDATE:20270314T020000
END:DAYLIGHT
END:VTIMEZONE
BEGIN:VEVENT
UID:7ecd199c-db62-483d-9c04-350ad4b27fa5
DTSTAMP:20260422T083727Z
DESCRIPTION:Join Conservation Nebraska and Lauren Salick from Nebraska Wild
 life Rehab for an engaging presentation on turtles. \n\nHow did turtles ev
 olve? What is in the anatomy of a shell? This program addresses basic chel
 onian biology as well as an introduction to the shelled friends who call N
 ebraska home. \n\nRegister in advance for this webinar:\nhttps://us02web.z
 oom.us/webinar/register/WN_cxdkjttcQYaZxPlW1tOU0Q\n\n\nAbout the speaker:
 \nLauren Salick holds a Bachelor of Science in Animal Science from Iowa St
 ate University and a Masters of Arts in Natural Science and Environmental 
 Education from Hamline University. Her goal is to generate passion and res
 pect for wild animals across all demographics by creating personal experie
 nces and bonds between people and our natural world.
DTSTART;TZID=America/Chicago:20260211T180000
DTEND;TZID=America/Chicago:20260211T190000
LOCATION:https://us02web.zoom.us/webinar/register/WN_cxdkjttcQYaZxPlW1tOU0Q
SUMMARY:Turtles of Nebraska
END:VEVENT
END:VCALENDAR
