BEGIN:VCALENDAR
VERSION:2.0
PRODID:-//neconserve.org//NONSGML kigkonsult.se iCalcreator 2.30.10//
CALSCALE:GREGORIAN
METHOD:PUBLISH
UID:c4fb440c-a956-412c-ae3c-675404741f79
X-WR-CALDESC:Embark on a captivating journey into one of Omaha's natural sa
 nctuaries\, Heron Haven. Nestled within the city\, this spring-fed wetland
  offers a rare glimpse into Nebraska's rich ecological tapestry.\n\nGuided
  by Ted LaGrange\, Wetland Program Manager for the Nebraska Game and Parks
  Commission\, this event delves into the intricate world of wetlands. With
  over 40 years of experience\, Ted has been instrumental in conserving and
  restoring wetlands across Nebraska. His efforts have earned him national 
 recognition\, including the 2020 ELI National Wetlands Award for Wetlands 
 Program Development.\n\nDuring this family-friendly afternoon\, participan
 ts will explore Heron Haven's diverse ecosystems\, from its tranquil board
 walk trails to its vibrant butterfly garden. Expect to encounter a variety
  of species\, including herons\, wood ducks\, painted turtles\, and numero
 us bird species that call this urban oasis home. Ted will share insights i
 nto the vital role wetlands play in supporting biodiversity\, improving wa
 ter quality\, and mitigating flooding.\n\nThis free event is open to all a
 ges. Please wear comfortable walking shoes and feel free to bring binocula
 rs and a camera\, if you have them! \n\nSpace is limited and registration 
 is required. Please visit https://secure.everyaction.com/aNCEyNRXNk6lApr5j
 VBV0A2\n\nDon't miss this unique opportunity to connect with nature and ga
 in a deeper appreciation for Nebraska's wetlands.
X-WR-RELCALID:70bb16d1e692022cab5e609073632877
X-WR-TIMEZONE:America/Chicago
BEGIN:VTIMEZONE
TZID:America/Chicago
BEGIN:STANDARD
TZNAME:CST
DTSTART:20241103T020000
TZOFFSETFROM:-0500
TZOFFSETTO:-0600
RDATE:20251102T020000
RDATE:20261101T020000
END:STANDARD
BEGIN:DAYLIGHT
TZNAME:CDT
DTSTART:20250309T020000
TZOFFSETFROM:-0600
TZOFFSETTO:-0500
RDATE:20260308T020000
END:DAYLIGHT
END:VTIMEZONE
BEGIN:VEVENT
UID:5c64c029-de3a-4c40-a354-23843bfac13c
DTSTAMP:20260421T085223Z
DESCRIPTION:Embark on a captivating journey into one of Omaha's natural san
 ctuaries\, Heron Haven. Nestled within the city\, this spring-fed wetland 
 offers a rare glimpse into Nebraska's rich ecological tapestry.\n\nGuided 
 by Ted LaGrange\, Wetland Program Manager for the Nebraska Game and Parks 
 Commission\, this event delves into the intricate world of wetlands. With 
 over 40 years of experience\, Ted has been instrumental in conserving and 
 restoring wetlands across Nebraska. His efforts have earned him national r
 ecognition\, including the 2020 ELI National Wetlands Award for Wetlands P
 rogram Development.\n\nDuring this family-friendly afternoon\, participant
 s will explore Heron Haven's diverse ecosystems\, from its tranquil boardw
 alk trails to its vibrant butterfly garden. Expect to encounter a variety 
 of species\, including herons\, wood ducks\, painted turtles\, and numerou
 s bird species that call this urban oasis home. Ted will share insights in
 to the vital role wetlands play in supporting biodiversity\, improving wat
 er quality\, and mitigating flooding.\n\nThis free event is open to all ag
 es. Please wear comfortable walking shoes and feel free to bring binocular
 s and a camera\, if you have them! \n\nSpace is limited and registration i
 s required. Please visit https://secure.everyaction.com/aNCEyNRXNk6lApr5jV
 BV0A2\n\nDon't miss this unique opportunity to connect with nature and gai
 n a deeper appreciation for Nebraska's wetlands.
DTSTART;TZID=America/Chicago:20250823T130000
DTEND;TZID=America/Chicago:20250823T140000
LOCATION:Heron Haven Nature Center\, 11809 Old Maple Road\, Omaha\, NE 6850
 8 US
SUMMARY:Wetland Wonders: A Guided Exploration
END:VEVENT
END:VCALENDAR
