BEGIN:VCALENDAR
VERSION:2.0
PRODID:-//neconserve.org//NONSGML kigkonsult.se iCalcreator 2.30.10//
CALSCALE:GREGORIAN
METHOD:PUBLISH
UID:27948fba-913d-4b0e-9573-83ae3812f569
X-WR-CALDESC:Join Conservation Nebraska and speaker Lindsey Chizinski to le
 arn more about some of Nebraska's biologically unique landscapes outlined 
 in the Nebraska Legacy Project. Learn about how biodiversity strengthens e
 cological relationships and how you can help promote biodiversity yourself
 . \n\nThis event will be free for the public on August 13th from 6-7pm at 
 the Bennett Martin Public Library Auditorium and online via Zoom. \n\nRegi
 ster in advance for this webinar:\nhttps://us02web.zoom.us/webinar/registe
 r/WN_bTbMbtwNRRifr1z4pJQWhQ\n\nLindsey Chizinski is a UNL lecturer who spe
 cializes in ecology and environmental education. Her work has advanced cri
 tical research for Nebraska's fish species and freshwater ecosystems.
X-WR-RELCALID:b7b8343187c57a2bdce0dd4d5324ecea
X-WR-TIMEZONE:America/Chicago
BEGIN:VTIMEZONE
TZID:America/Chicago
BEGIN:STANDARD
TZNAME:CST
DTSTART:20241103T020000
TZOFFSETFROM:-0500
TZOFFSETTO:-0600
RDATE:20251102T020000
RDATE:20261101T020000
END:STANDARD
BEGIN:DAYLIGHT
TZNAME:CDT
DTSTART:20250309T020000
TZOFFSETFROM:-0600
TZOFFSETTO:-0500
RDATE:20260308T020000
END:DAYLIGHT
END:VTIMEZONE
BEGIN:VEVENT
UID:929680eb-7f28-4fca-8a50-3a3680eae50f
DTSTAMP:20260421T103640Z
DESCRIPTION:Join Conservation Nebraska and speaker Lindsey Chizinski to lea
 rn more about some of Nebraska's biologically unique landscapes outlined i
 n the Nebraska Legacy Project. Learn about how biodiversity strengthens ec
 ological relationships and how you can help promote biodiversity yourself.
  \n\nThis event will be free for the public on August 13th from 6-7pm at t
 he Bennett Martin Public Library Auditorium and online via Zoom. \n\nRegis
 ter in advance for this webinar:\nhttps://us02web.zoom.us/webinar/register
 /WN_bTbMbtwNRRifr1z4pJQWhQ\n\nLindsey Chizinski is a UNL lecturer who spec
 ializes in ecology and environmental education. Her work has advanced crit
 ical research for Nebraska's fish species and freshwater ecosystems.
DTSTART;TZID=America/Chicago:20250813T180000
DTEND;TZID=America/Chicago:20250813T190000
LOCATION:In-person at the Lincoln Bennett Martin Public Library or via Zoom
SUMMARY:Biodiversity in the Heartland: Nebraska's Unique Landscapes
END:VEVENT
END:VCALENDAR
