BEGIN:VCALENDAR
VERSION:2.0
PRODID:-//neconserve.org//NONSGML kigkonsult.se iCalcreator 2.30.10//
CALSCALE:GREGORIAN
METHOD:PUBLISH
UID:1aadb4be-c506-4cf3-b643-5d45f54e56d5
X-WR-CALDESC:Join Conservation Nebraska and Michael Herzog from Resilient E
 lectric Analytics for Lifecycle Emissions for Power Generation: Calculatin
 g Contributions from Manufacturing to Decommissioning on August 5th\, 7:00
 -8:30 PM via Zoom. \n\nParticipants to this free event will gain valuable 
 understanding in the total emissions of their electricity\, including cons
 truction of power plants\, energy production and end of life decommissioni
 ng.\n\nMichael Herzog is an Electrical Engineer with over 20 years of expe
 rience in the electric utility industry\, with focuses in system planning\
 , operations\, reliability analysis\, and resiliency mitigations. A gradua
 te of University of Nebraska at Lincoln and Creighton University\, Mr. Her
 zog has always viewed electrical issues through a Nebraska lens.\n\nRegist
 er in advance for this webinar:\nhttps://us02web.zoom.us/webinar/register/
 WN_LhcPmQHpQp-DKHH0ufygKg
X-WR-RELCALID:a5cc82e2e389d4a586b2d092c653bdf0
X-WR-TIMEZONE:America/Chicago
BEGIN:VTIMEZONE
TZID:America/Chicago
BEGIN:STANDARD
TZNAME:CST
DTSTART:20241103T020000
TZOFFSETFROM:-0500
TZOFFSETTO:-0600
RDATE:20251102T020000
RDATE:20261101T020000
END:STANDARD
BEGIN:DAYLIGHT
TZNAME:CDT
DTSTART:20250309T020000
TZOFFSETFROM:-0600
TZOFFSETTO:-0500
RDATE:20260308T020000
END:DAYLIGHT
END:VTIMEZONE
BEGIN:VEVENT
UID:5225d1ad-9932-415e-b813-bc353b390692
DTSTAMP:20260421T085628Z
DESCRIPTION:Join Conservation Nebraska and Michael Herzog from Resilient El
 ectric Analytics for Lifecycle Emissions for Power Generation: Calculating
  Contributions from Manufacturing to Decommissioning on August 5th\, 7:00-
 8:30 PM via Zoom. \n\nParticipants to this free event will gain valuable u
 nderstanding in the total emissions of their electricity\, including const
 ruction of power plants\, energy production and end of life decommissionin
 g.\n\nMichael Herzog is an Electrical Engineer with over 20 years of exper
 ience in the electric utility industry\, with focuses in system planning\,
  operations\, reliability analysis\, and resiliency mitigations. A graduat
 e of University of Nebraska at Lincoln and Creighton University\, Mr. Herz
 og has always viewed electrical issues through a Nebraska lens.\n\nRegiste
 r in advance for this webinar:\nhttps://us02web.zoom.us/webinar/register/W
 N_LhcPmQHpQp-DKHH0ufygKg
DTSTART;TZID=America/Chicago:20250805T190000
DTEND;TZID=America/Chicago:20250805T200000
LOCATION:https://us02web.zoom.us/webinar/register/WN_LhcPmQHpQp-DKHH0ufygKg
SUMMARY:Lifecycle Emissions for Power Generation: Calculating Contributions
  from Manufacturing to Decommissioning
END:VEVENT
END:VCALENDAR
