BEGIN:VCALENDAR
VERSION:2.0
PRODID:-//neconserve.org//NONSGML kigkonsult.se iCalcreator 2.30.10//
CALSCALE:GREGORIAN
METHOD:PUBLISH
UID:520d8e7f-41ed-484b-a135-76ea172b55c7
X-WR-CALDESC:Join Conservation Nebraska\, Nebraska Extension\, and the Univ
 ersity of Nebraska–Lincoln for an event exploring the far-reaching effects
  of drought on Nebraska’s environment\, agriculture\, and communities.\n\n
 Ben Beckman of Nebraska Extension will discuss how drought conditions are 
 challenging livestock management across the state\, offering insights from
  his work.\n\nKelly Smith from the University of Nebraska-Lincoln will pro
 vide a broader view of how drought is influencing Nebraska’s climate\, wat
 er resources\, and long-term sustainability.\n\nTogether\, we’ll explore h
 ow Nebraska's communities can adapt to shifting environmental conditions a
 nd explore practical strategies for greater drought resilience.\n\nRegiste
 r in advance for this webinar:\nhttps://us02web.zoom.us/webinar/register/W
 N_MhmIMwbeSKKKAmCHUbYLkw
X-WR-RELCALID:2349763f24a840fb43b555faae29a392
X-WR-TIMEZONE:America/Chicago
BEGIN:VTIMEZONE
TZID:America/Chicago
BEGIN:STANDARD
TZNAME:CST
DTSTART:20241103T020000
TZOFFSETFROM:-0500
TZOFFSETTO:-0600
RDATE:20251102T020000
RDATE:20261101T020000
END:STANDARD
BEGIN:DAYLIGHT
TZNAME:CDT
DTSTART:20250309T020000
TZOFFSETFROM:-0600
TZOFFSETTO:-0500
RDATE:20260308T020000
END:DAYLIGHT
END:VTIMEZONE
BEGIN:VEVENT
UID:34e6cdef-4586-4843-a657-b38af154c478
DTSTAMP:20260421T101300Z
DESCRIPTION:Join Conservation Nebraska\, Nebraska Extension\, and the Unive
 rsity of Nebraska–Lincoln for an event exploring the far-reaching effects 
 of drought on Nebraska’s environment\, agriculture\, and communities.\n\nB
 en Beckman of Nebraska Extension will discuss how drought conditions are c
 hallenging livestock management across the state\, offering insights from 
 his work.\n\nKelly Smith from the University of Nebraska-Lincoln will prov
 ide a broader view of how drought is influencing Nebraska’s climate\, wate
 r resources\, and long-term sustainability.\n\nTogether\, we’ll explore ho
 w Nebraska's communities can adapt to shifting environmental conditions an
 d explore practical strategies for greater drought resilience.\n\nRegister
  in advance for this webinar:\nhttps://us02web.zoom.us/webinar/register/WN
 _MhmIMwbeSKKKAmCHUbYLkw
DTSTART;TZID=America/Chicago:20250729T180000
DTEND;TZID=America/Chicago:20250729T190000
LOCATION:https://us02web.zoom.us/webinar/register/WN_MhmIMwbeSKKKAmCHUbYLkw
SUMMARY:Impacts of Drought
END:VEVENT
END:VCALENDAR
