BEGIN:VCALENDAR
VERSION:2.0
PRODID:-//neconserve.org//NONSGML kigkonsult.se iCalcreator 2.30.10//
CALSCALE:GREGORIAN
METHOD:PUBLISH
UID:78571e85-1ee9-4ddd-b673-8a4591581201
X-WR-CALDESC:Have you ever wondered what happens after you flush? Join Cons
 ervation Nebraska and the City of Lincoln for a wastewater treatment facil
 ity tour to learn what happens to water once it leaves your home. \n\nThis
  behind-the-scenes tour of one of the City of Lincoln’s wastewater treatme
 nt facilities is an excellent opportunity to learn about the vital process
  of turning wastewater into clean\, reusable water. You’ll be able to see 
 firsthand the methods and technology used to treat and manage wastewater. 
 \n\nThis event offers a comprehensive look at one of the city’s most essen
 tial yet often overlooked services. We look forward to showing you how Lin
 coln keeps its water clean and safe for everyone. Don’t miss out on this f
 un educational experience! \n\nSpace is limited\, so be sure to register t
 oday! https://secure.everyaction.com/1EJJsgUQHEm4YFUwJ7CIyw2\n\n*Exact eve
 nt location will be sent to registered participants prior to the event dat
 e.
X-WR-RELCALID:fea92137eff474d6a4f11670954308f8
X-WR-TIMEZONE:America/Chicago
BEGIN:VTIMEZONE
TZID:America/Chicago
BEGIN:STANDARD
TZNAME:CST
DTSTART:20241103T020000
TZOFFSETFROM:-0500
TZOFFSETTO:-0600
RDATE:20251102T020000
RDATE:20261101T020000
END:STANDARD
BEGIN:DAYLIGHT
TZNAME:CDT
DTSTART:20250309T020000
TZOFFSETFROM:-0600
TZOFFSETTO:-0500
RDATE:20260308T020000
END:DAYLIGHT
END:VTIMEZONE
BEGIN:VEVENT
UID:e94a7115-fb39-432a-9bcf-810e1886219a
DTSTAMP:20260421T102711Z
DESCRIPTION:Have you ever wondered what happens after you flush? Join Conse
 rvation Nebraska and the City of Lincoln for a wastewater treatment facili
 ty tour to learn what happens to water once it leaves your home. \n\nThis 
 behind-the-scenes tour of one of the City of Lincoln’s wastewater treatmen
 t facilities is an excellent opportunity to learn about the vital process 
 of turning wastewater into clean\, reusable water. You’ll be able to see f
 irsthand the methods and technology used to treat and manage wastewater. 
 \n\nThis event offers a comprehensive look at one of the city’s most essen
 tial yet often overlooked services. We look forward to showing you how Lin
 coln keeps its water clean and safe for everyone. Don’t miss out on this f
 un educational experience! \n\nSpace is limited\, so be sure to register t
 oday! https://secure.everyaction.com/1EJJsgUQHEm4YFUwJ7CIyw2\n\n*Exact eve
 nt location will be sent to registered participants prior to the event dat
 e.
DTSTART;TZID=America/Chicago:20250725T130000
DTEND;TZID=America/Chicago:20250725T143000
LOCATION:Exact event location will be sent to registered participants prior
  to the event date.
SUMMARY:Wastewater Treatment Facility Tour
END:VEVENT
END:VCALENDAR
