BEGIN:VCALENDAR
VERSION:2.0
PRODID:-//neconserve.org//NONSGML kigkonsult.se iCalcreator 2.30.10//
CALSCALE:GREGORIAN
METHOD:PUBLISH
UID:1188fd03-5fd4-496a-b97f-ccffa3f20b30
X-WR-CALDESC:Join Conservation Nebraska for a presentation with Mark Pegg\,
  Fisheries Ecologist at the University of Nebraska–Lincoln\, as he explore
 s the major threats facing Nebraska’s fish populations.\n\nMark will discu
 ss the impact of invasive species\, as well as critical issues like water 
 quality\, water quantity\, and harvesting pressures affecting both game an
 d nongame fish species.\n\nDon't miss this opportunity to learn about the 
 challenges and conservation efforts shaping the future of Nebraska’s aquat
 ic ecosystems.\n\nRegister in advance for this webinar:\nhttps://us02web.z
 oom.us/webinar/register/WN_tPsb1M_aTWGpvuXImV3zUQ
X-WR-RELCALID:efc0dcd7f098a3136fb716a442813c41
X-WR-TIMEZONE:America/Chicago
BEGIN:VTIMEZONE
TZID:America/Chicago
BEGIN:STANDARD
TZNAME:CST
DTSTART:20241103T020000
TZOFFSETFROM:-0500
TZOFFSETTO:-0600
RDATE:20251102T020000
RDATE:20261101T020000
END:STANDARD
BEGIN:DAYLIGHT
TZNAME:CDT
DTSTART:20250309T020000
TZOFFSETFROM:-0600
TZOFFSETTO:-0500
RDATE:20260308T020000
END:DAYLIGHT
END:VTIMEZONE
BEGIN:VEVENT
UID:1b0f8dd3-55c1-42a3-8544-cc3da9834742
DTSTAMP:20260421T103618Z
DESCRIPTION:Join Conservation Nebraska for a presentation with Mark Pegg\, 
 Fisheries Ecologist at the University of Nebraska–Lincoln\, as he explores
  the major threats facing Nebraska’s fish populations.\n\nMark will discus
 s the impact of invasive species\, as well as critical issues like water q
 uality\, water quantity\, and harvesting pressures affecting both game and
  nongame fish species.\n\nDon't miss this opportunity to learn about the c
 hallenges and conservation efforts shaping the future of Nebraska’s aquati
 c ecosystems.\n\nRegister in advance for this webinar:\nhttps://us02web.zo
 om.us/webinar/register/WN_tPsb1M_aTWGpvuXImV3zUQ
DTSTART;TZID=America/Chicago:20250725T180000
DTEND;TZID=America/Chicago:20250725T190000
LOCATION:https://us02web.zoom.us/webinar/register/WN_tPsb1M_aTWGpvuXImV3zUQ
SUMMARY:Threats to Fish in Nebraska
END:VEVENT
END:VCALENDAR
