BEGIN:VCALENDAR
VERSION:2.0
PRODID:-//neconserve.org//NONSGML kigkonsult.se iCalcreator 2.30.10//
CALSCALE:GREGORIAN
METHOD:PUBLISH
UID:48235e4c-893a-4d0e-857d-99af922c8f26
X-WR-CALDESC:The potential for utility-scale renewable energy systems is be
 coming a reality across Nebraska\, bringing exciting opportunities and imp
 ortant questions. To help address these questions\, Conservation Nebraska\
 , in partnership with the University of Nebraska Extension\, is hosting an
  educational seminar on renewable energy in Nebraska\, featuring industry 
 expert and Extension Educator John Hay.\n\nThis event will provide an over
 view of key topics\, including policy\, landowner concerns\, recent techno
 logical advances in renewable energy systems\, and the potential impacts o
 f wind and solar development in Nebraska.\n\nRSVP by visiting: https://sec
 ure.everyaction.com/fhkQo8zKBE-DqB-LpT_--w2
X-WR-RELCALID:af10eac6c2b33dbd32289179e1dfc0ca
X-WR-TIMEZONE:America/Chicago
BEGIN:VTIMEZONE
TZID:America/Chicago
BEGIN:STANDARD
TZNAME:CST
DTSTART:20241103T020000
TZOFFSETFROM:-0500
TZOFFSETTO:-0600
RDATE:20251102T020000
RDATE:20261101T020000
END:STANDARD
BEGIN:DAYLIGHT
TZNAME:CDT
DTSTART:20250309T020000
TZOFFSETFROM:-0600
TZOFFSETTO:-0500
RDATE:20260308T020000
END:DAYLIGHT
END:VTIMEZONE
BEGIN:VEVENT
UID:daaff7f0-bc10-4153-a255-afa3f74701c8
DTSTAMP:20260421T105748Z
DESCRIPTION:The potential for utility-scale renewable energy systems is bec
 oming a reality across Nebraska\, bringing exciting opportunities and impo
 rtant questions. To help address these questions\, Conservation Nebraska\,
  in partnership with the University of Nebraska Extension\, is hosting an 
 educational seminar on renewable energy in Nebraska\, featuring industry e
 xpert and Extension Educator John Hay.\n\nThis event will provide an overv
 iew of key topics\, including policy\, landowner concerns\, recent technol
 ogical advances in renewable energy systems\, and the potential impacts of
  wind and solar development in Nebraska.\n\nRSVP by visiting: https://secu
 re.everyaction.com/fhkQo8zKBE-DqB-LpT_--w2
DTSTART;TZID=America/Chicago:20250708T183000
DTEND;TZID=America/Chicago:20250708T200000
LOCATION:Nemaha County Fairgrounds\, 4-H Building\, 816 I St\, Auburn\, NE 
 68305 US
SUMMARY:The Changing Landscape of Renewable Energy in Nebraska
END:VEVENT
END:VCALENDAR
