BEGIN:VCALENDAR
VERSION:2.0
PRODID:-//neconserve.org//NONSGML kigkonsult.se iCalcreator 2.30.10//
CALSCALE:GREGORIAN
METHOD:PUBLISH
UID:f6c185d6-0497-4b22-870b-15b835117e67
X-WR-CALDESC:Please join Conservation Nebraska and Jeff Ray\, Planning Depa
 rtment Manager at JEO Consulting\, for an in-depth session on effective zo
 ning practices for renewable energy projects.\n\nThe event will cover zoni
 ng strategies that support sustainable energy development and showcase suc
 cessful planning models from across the state. A Q&A session will also be 
 held\, giving attendees the chance to ask questions and learn how thoughtf
 ul zoning can help communities accommodate renewable energy projects.\n\nR
 SVP by visiting: https://secure.everyaction.com/ebUVQufp3ECqn954go-PaQ2
X-WR-RELCALID:07cd8a86626891ddbcc89c3be90040ca
X-WR-TIMEZONE:America/Chicago
BEGIN:VTIMEZONE
TZID:America/Chicago
BEGIN:STANDARD
TZNAME:CST
DTSTART:20241103T020000
TZOFFSETFROM:-0500
TZOFFSETTO:-0600
RDATE:20251102T020000
RDATE:20261101T020000
END:STANDARD
BEGIN:DAYLIGHT
TZNAME:CDT
DTSTART:20250309T020000
TZOFFSETFROM:-0600
TZOFFSETTO:-0500
RDATE:20260308T020000
END:DAYLIGHT
END:VTIMEZONE
BEGIN:VEVENT
UID:6541881e-1a89-4a7c-9d2a-f27087dcb302
DTSTAMP:20260420T090119Z
DESCRIPTION:Please join Conservation Nebraska and Jeff Ray\, Planning Depar
 tment Manager at JEO Consulting\, for an in-depth session on effective zon
 ing practices for renewable energy projects.\n\nThe event will cover zonin
 g strategies that support sustainable energy development and showcase succ
 essful planning models from across the state. A Q&A session will also be h
 eld\, giving attendees the chance to ask questions and learn how thoughtfu
 l zoning can help communities accommodate renewable energy projects.\n\nRS
 VP by visiting: https://secure.everyaction.com/ebUVQufp3ECqn954go-PaQ2
DTSTART;TZID=America/Chicago:20250626T183000
DTEND;TZID=America/Chicago:20250626T193000
LOCATION:Keene Memorial Library\, 1030 N Broad St\, Fremont\, NE 68025 US
SUMMARY:County Zoning & Utility Scale Renewable Projects
END:VEVENT
END:VCALENDAR
