BEGIN:VCALENDAR
VERSION:2.0
PRODID:-//neconserve.org//NONSGML kigkonsult.se iCalcreator 2.30.10//
CALSCALE:GREGORIAN
METHOD:PUBLISH
UID:046172e2-d25c-4cdc-951b-1037cd459d1e
X-WR-CALDESC:Join Conservation Nebraska for an event focused on green infra
 structure — a sustainable approach to managing water\, enhancing biodivers
 ity\, and improving the livability of our communities.\n\nWe are honored t
 o feature two of Nebraska’s leading voices in landscape sustainability and
  ecological design:\n\nDr. Richard Sutton – Professor Emeritus at the Univ
 ersity of Nebraska-Lincoln\, Dr. Sutton is nationally recognized for his p
 ioneering work on green roofs\, native grass integration\, and urban ecolo
 gy. His research bridges horticulture and landscape architecture\, and he'
 s passionate about creating plant-driven solutions to environmental challe
 nges.\n\nProf. Steve Rodie – Professor Emeritus at the University of Nebra
 ska-Omaha\, Prof. Rodie brings decades of experience in sustainable landsc
 ape design\, community engagement\, and environmental education. He’s a le
 ader in promoting nature-based solutions that enhance both ecosystems and 
 human well-being.\n\nTogether\, they’ll explore how green infrastructure—f
 rom rain gardens to green roofs—can transform our communities into more re
 silient\, beautiful\, and functional places.\n\nRegister in advance for th
 is webinar:\nhttps://us02web.zoom.us/webinar/register/WN_BaBE53qXTemO6DpL-
 6iTCQ
X-WR-RELCALID:8652cac211d77170e3f11be795cf90fc
X-WR-TIMEZONE:America/Chicago
BEGIN:VTIMEZONE
TZID:America/Chicago
BEGIN:STANDARD
TZNAME:CST
DTSTART:20241103T020000
TZOFFSETFROM:-0500
TZOFFSETTO:-0600
RDATE:20251102T020000
RDATE:20261101T020000
END:STANDARD
BEGIN:DAYLIGHT
TZNAME:CDT
DTSTART:20250309T020000
TZOFFSETFROM:-0600
TZOFFSETTO:-0500
RDATE:20260308T020000
END:DAYLIGHT
END:VTIMEZONE
BEGIN:VEVENT
UID:e7ad1ba2-23e4-4dec-ad10-f8c269389f09
DTSTAMP:20260424T162845Z
DESCRIPTION:Join Conservation Nebraska for an event focused on green infras
 tructure — a sustainable approach to managing water\, enhancing biodiversi
 ty\, and improving the livability of our communities.\n\nWe are honored to
  feature two of Nebraska’s leading voices in landscape sustainability and 
 ecological design:\n\nDr. Richard Sutton – Professor Emeritus at the Unive
 rsity of Nebraska-Lincoln\, Dr. Sutton is nationally recognized for his pi
 oneering work on green roofs\, native grass integration\, and urban ecolog
 y. His research bridges horticulture and landscape architecture\, and he's
  passionate about creating plant-driven solutions to environmental challen
 ges.\n\nProf. Steve Rodie – Professor Emeritus at the University of Nebras
 ka-Omaha\, Prof. Rodie brings decades of experience in sustainable landsca
 pe design\, community engagement\, and environmental education. He’s a lea
 der in promoting nature-based solutions that enhance both ecosystems and h
 uman well-being.\n\nTogether\, they’ll explore how green infrastructure—fr
 om rain gardens to green roofs—can transform our communities into more res
 ilient\, beautiful\, and functional places.\n\nRegister in advance for thi
 s webinar:\nhttps://us02web.zoom.us/webinar/register/WN_BaBE53qXTemO6DpL-6
 iTCQ
DTSTART;TZID=America/Chicago:20250527T180000
DTEND;TZID=America/Chicago:20250527T190000
LOCATION:https://us02web.zoom.us/webinar/register/WN_BaBE53qXTemO6DpL-6iTCQ
SUMMARY:Exploring Green Infrastructure
END:VEVENT
END:VCALENDAR
