BEGIN:VCALENDAR
VERSION:2.0
PRODID:-//neconserve.org//NONSGML kigkonsult.se iCalcreator 2.30.10//
CALSCALE:GREGORIAN
METHOD:PUBLISH
UID:c4fbc145-a28a-4581-b477-512f624fdb44
X-WR-CALDESC:Join Conservation Nebraska at Elmwood Park for an inspiring\, 
 free community event designed to help you reconnect with nature through ob
 servation and creativity. Whether you're an artist\, writer\, or someone w
 ho loves the outdoors\, this event offers a unique opportunity to immerse 
 yourself in the natural world and express your observations through variou
 s creative forms. \n\nParticipate in nature journaling\, sketching\, and c
 rafting with leaves and flowers\, and let nature inspire your creations!\n
 \nThis event is also an excellent chance to learn more about Conservation 
 Nebraska’s work\, meet like-minded individuals\, and engage with others on
  environmental issues that matter to you.
X-WR-RELCALID:9a41f448593fa01574c23773c01fab08
X-WR-TIMEZONE:America/Chicago
BEGIN:VTIMEZONE
TZID:America/Chicago
BEGIN:STANDARD
TZNAME:CST
DTSTART:20241103T020000
TZOFFSETFROM:-0500
TZOFFSETTO:-0600
RDATE:20251102T020000
END:STANDARD
BEGIN:DAYLIGHT
TZNAME:CDT
DTSTART:20250309T020000
TZOFFSETFROM:-0600
TZOFFSETTO:-0500
RDATE:20260308T020000
END:DAYLIGHT
END:VTIMEZONE
BEGIN:VEVENT
UID:e1cae6cc-6382-4638-adc5-364836a0fdc8
DTSTAMP:20260424T193344Z
DESCRIPTION:Join Conservation Nebraska at Elmwood Park for an inspiring\, f
 ree community event designed to help you reconnect with nature through obs
 ervation and creativity. Whether you're an artist\, writer\, or someone wh
 o loves the outdoors\, this event offers a unique opportunity to immerse y
 ourself in the natural world and express your observations through various
  creative forms. \n\nParticipate in nature journaling\, sketching\, and cr
 afting with leaves and flowers\, and let nature inspire your creations!\n
 \nThis event is also an excellent chance to learn more about Conservation 
 Nebraska’s work\, meet like-minded individuals\, and engage with others on
  environmental issues that matter to you.
DTSTART;TZID=America/Chicago:20250413T130000
DTEND;TZID=America/Chicago:20250413T150000
LOCATION:Omaha's Elmwood Park
SUMMARY:Conservation Connections: Nature's Narrative
END:VEVENT
END:VCALENDAR
