BEGIN:VCALENDAR
VERSION:2.0
PRODID:-//neconserve.org//NONSGML kigkonsult.se iCalcreator 2.30.10//
CALSCALE:GREGORIAN
METHOD:PUBLISH
UID:c4fc5cfc-4be3-46ea-b0bc-a69c76611a60
X-WR-CALDESC:The potential for utility-scale renewable energy systems is be
 coming a reality across Nebraska\, bringing exciting opportunities and imp
 ortant questions. To help address these questions\, Conservation Nebraska\
 , in partnership with the University of Nebraska Extension\, is hosting an
  educational seminar on renewable energy in Nebraska.\n\nThis event will p
 rovide an overview of key topics\, including policy\, landowner concerns\,
  recent technological advances in renewable energy systems\, and the poten
 tial impacts of wind and solar development in Nebraska.\n\nJoin us on Mond
 ay\, March 31 at the Holthus Convention Center Conference\, Room I or via 
 Zoom.\n\nRegister in advance for this webinar:\nhttps://us02web.zoom.us/we
 binar/register/WN_ieFZfVmGT02WjmvArnZ3Qw
X-WR-RELCALID:dd46b8bd39cf47b82480c5f04c336480
X-WR-TIMEZONE:America/Chicago
BEGIN:VTIMEZONE
TZID:America/Chicago
BEGIN:STANDARD
TZNAME:CST
DTSTART:20241103T020000
TZOFFSETFROM:-0500
TZOFFSETTO:-0600
RDATE:20251102T020000
END:STANDARD
BEGIN:DAYLIGHT
TZNAME:CDT
DTSTART:20250309T020000
TZOFFSETFROM:-0600
TZOFFSETTO:-0500
RDATE:20260308T020000
END:DAYLIGHT
END:VTIMEZONE
BEGIN:VEVENT
UID:5a7d286c-89ab-4a94-b790-4172d85d59fb
DTSTAMP:20260422T164839Z
DESCRIPTION:The potential for utility-scale renewable energy systems is bec
 oming a reality across Nebraska\, bringing exciting opportunities and impo
 rtant questions. To help address these questions\, Conservation Nebraska\,
  in partnership with the University of Nebraska Extension\, is hosting an 
 educational seminar on renewable energy in Nebraska.\n\nThis event will pr
 ovide an overview of key topics\, including policy\, landowner concerns\, 
 recent technological advances in renewable energy systems\, and the potent
 ial impacts of wind and solar development in Nebraska.\n\nJoin us on Monda
 y\, March 31 at the Holthus Convention Center Conference\, Room I or via Z
 oom.\n\nRegister in advance for this webinar:\nhttps://us02web.zoom.us/web
 inar/register/WN_ieFZfVmGT02WjmvArnZ3Qw
DTSTART;TZID=America/Chicago:20250331T190000
DTEND;TZID=America/Chicago:20250331T200000
LOCATION:Holthus Convention Center\, Conference Room\, 3130 Holen Ave\, Yor
 k \, York\, NE 68467 US
SUMMARY:The Changing Landscape of Renewable Energy in Nebraska
END:VEVENT
END:VCALENDAR
