BEGIN:VCALENDAR
VERSION:2.0
PRODID:-//neconserve.org//NONSGML kigkonsult.se iCalcreator 2.30.10//
CALSCALE:GREGORIAN
METHOD:PUBLISH
UID:91fe1ea0-f4a7-4361-a08c-b0a791be3e7f
X-WR-CALDESC:Do you have any plants or seeds that you are just not sure wha
 t to do with? Don't have the right environment or pets? Or would just like
  something different?\n\nJoin Conservation Nebraska at our plant and seed 
 swap!\nBring any plants and seeds that you would like to trade or give awa
 y to someone else!\n\nPlease bring small to medium sized plants that could
  fit comfortably in a car\, provide as much detail of your plant or seeds 
 as possible\, and please do not bring seeds to trade that are too old or w
 ere not stored properly that would most likely not grow.\n\nDate: Sunday\,
  March 23rd\nTime: 1:00 to 3:00 P.M.\nLocation: Elmwood Park (Look for the
  Conservation Nebraska flag)\n\nIn case of inclement weather or temperatur
 es\, the event will be moved inside the Barbara Weitz Community Engagement
  Center at UNO. We will monitor the weather to notify attendees as soon as
  possible.\n\nSnacks and drinks will also be provided. Registration is not
  required to attend\, but we would love for you to let us know you're comi
 ng by filling out this form in advance: https://secure.everyaction.com/9yA
 AVxC7L0KYqjT7sikArQ2
X-WR-RELCALID:ca0829763c9ba902f7bcbefde484eb5f
X-WR-TIMEZONE:America/Chicago
BEGIN:VTIMEZONE
TZID:America/Chicago
BEGIN:STANDARD
TZNAME:CST
DTSTART:20241103T020000
TZOFFSETFROM:-0500
TZOFFSETTO:-0600
RDATE:20251102T020000
END:STANDARD
BEGIN:DAYLIGHT
TZNAME:CDT
DTSTART:20250309T020000
TZOFFSETFROM:-0600
TZOFFSETTO:-0500
RDATE:20260308T020000
END:DAYLIGHT
END:VTIMEZONE
BEGIN:VEVENT
UID:c4450437-c244-4487-a3be-461ad4341d86
DTSTAMP:20260422T084216Z
DESCRIPTION:Do you have any plants or seeds that you are just not sure what
  to do with? Don't have the right environment or pets? Or would just like 
 something different?\n\nJoin Conservation Nebraska at our plant and seed s
 wap!\nBring any plants and seeds that you would like to trade or give away
  to someone else!\n\nPlease bring small to medium sized plants that could 
 fit comfortably in a car\, provide as much detail of your plant or seeds a
 s possible\, and please do not bring seeds to trade that are too old or we
 re not stored properly that would most likely not grow.\n\nDate: Sunday\, 
 March 23rd\nTime: 1:00 to 3:00 P.M.\nLocation: Elmwood Park (Look for the 
 Conservation Nebraska flag)\n\nIn case of inclement weather or temperature
 s\, the event will be moved inside the Barbara Weitz Community Engagement 
 Center at UNO. We will monitor the weather to notify attendees as soon as 
 possible.\n\nSnacks and drinks will also be provided. Registration is not 
 required to attend\, but we would love for you to let us know you're comin
 g by filling out this form in advance: https://secure.everyaction.com/9yAA
 VxC7L0KYqjT7sikArQ2
DTSTART;TZID=America/Chicago:20250323T130000
DTEND;TZID=America/Chicago:20250323T150000
LOCATION:Elmwood Park\, 802 S 60th St\, Omaha\, NE 68106 US
SUMMARY:Conservation Connections: Plant and Seed Swap
END:VEVENT
END:VCALENDAR
