BEGIN:VCALENDAR
VERSION:2.0
PRODID:-//neconserve.org//NONSGML kigkonsult.se iCalcreator 2.30.10//
CALSCALE:GREGORIAN
METHOD:PUBLISH
UID:e2787aba-53d3-44b6-9124-d313c534e7a8
X-WR-CALDESC:Join Conservation Nebraska for a presentation with Alex O'Hanl
 on from One Omaha. \n\nAlex will discuss how communities can help become s
 tronger through coordinated efforts and better themselves for the future! 
 Looking at ways communities can build towards a sustainable and strong fut
 ure. Alex will dive into steps communities can take now to help one anothe
 r and build a better future.\n\nRegister in advance for this webinar:\nhtt
 ps://us02web.zoom.us/webinar/register/WN_u4h2eHkrSBy1RvstGxxN9g\n\nAlex is
  the Engagement Coordinator for One Omaha and a community leader who suppo
 rts resident-led projects that enhance their quality of life. Prior to joi
 ning One Omaha\, Alex worked as a Garden Manager for City Sprouts South wh
 ere she coordinated programs\, workshops\, and events. She holds a bachelo
 r’s degree in Philosophy/History from UNO and travels to California every 
 fall to harvest olives.
X-WR-RELCALID:28c2bef9a84278a4d7bfab3209a0bf14
X-WR-TIMEZONE:America/Chicago
BEGIN:VTIMEZONE
TZID:America/Chicago
BEGIN:STANDARD
TZNAME:CST
DTSTART:20241103T020000
TZOFFSETFROM:-0500
TZOFFSETTO:-0600
RDATE:20251102T020000
END:STANDARD
BEGIN:DAYLIGHT
TZNAME:CDT
DTSTART:20250309T020000
TZOFFSETFROM:-0600
TZOFFSETTO:-0500
RDATE:20260308T020000
END:DAYLIGHT
END:VTIMEZONE
BEGIN:VEVENT
UID:213aa415-aac1-4b61-9be7-cc3af83483c4
DTSTAMP:20260421T090010Z
DESCRIPTION:Join Conservation Nebraska for a presentation with Alex O'Hanlo
 n from One Omaha. \n\nAlex will discuss how communities can help become st
 ronger through coordinated efforts and better themselves for the future! L
 ooking at ways communities can build towards a sustainable and strong futu
 re. Alex will dive into steps communities can take now to help one another
  and build a better future.\n\nRegister in advance for this webinar:\nhttp
 s://us02web.zoom.us/webinar/register/WN_u4h2eHkrSBy1RvstGxxN9g\n\nAlex is 
 the Engagement Coordinator for One Omaha and a community leader who suppor
 ts resident-led projects that enhance their quality of life. Prior to join
 ing One Omaha\, Alex worked as a Garden Manager for City Sprouts South whe
 re she coordinated programs\, workshops\, and events. She holds a bachelor
 ’s degree in Philosophy/History from UNO and travels to California every f
 all to harvest olives.
DTSTART;TZID=America/Chicago:20250314T160000
DTEND;TZID=America/Chicago:20250314T170000
LOCATION:https://us02web.zoom.us/webinar/register/WN_u4h2eHkrSBy1RvstGxxN9g
SUMMARY:Building Strong Communities
END:VEVENT
END:VCALENDAR
