BEGIN:VCALENDAR
VERSION:2.0
PRODID:-//neconserve.org//NONSGML kigkonsult.se iCalcreator 2.30.10//
CALSCALE:GREGORIAN
METHOD:PUBLISH
UID:4b571519-74fd-48cf-8cdc-de01f921ce6e
X-WR-CALDESC:Join Conservation Nebraska for a heartwarming and creative eve
 nt where we transform unwanted clothing into delightful toys for our furry
  friends in animal shelters! ??\n\nThis is your chance to be part of a com
 munity effort that combines creativity\, sustainability\, and compassion. 
 Whether you're a seasoned crafter or new to upcycling\, everyone is welcom
 e to participate!\n\nWhat to Expect:\n● Upcycling Workshop: Learn how to t
 urn old t-shirts\, jeans\, and other clothing items into durable and fun p
 et toys.\n● Creative Fun: All necessary crafting materials and tools will 
 be provided. Just bring your creativity\, enthusiasm\, and any clothes you
 ’d like to donate!\n● Make a Difference: All toys created during the event
  will be donated to animal shelters around the state of Nebraska\, providi
 ng comfort and enrichment to pets in need.\n● Community Engagement: Connec
 t with like-minded individuals who share a passion for animals and sustain
 ability.\n\nHow You Can Help:\n● Donate Clothing: Bring any unwanted cloth
 ing items you’d like to upcycle (t-shirts\, jeans\, sweatpants). If you do
  not have clothing that you wish to donate but would still like\nto partic
 ipate\, Conservation Nebraska will have additional materials that can be u
 sed.\n● Join the Fun: Come with friends or family and enjoy a day of craft
 ing and giving back!\n● Spread the Word: Share this event with your friend
 s and family to maximize our impact.\n\nBy participating\, you'll be helpi
 ng reduce waste\, promoting sustainability\, and making a tangible differe
 nce in the lives of shelter animals!
X-WR-RELCALID:867950b243dfcac8ed96c69ece3b6590
X-WR-TIMEZONE:America/Chicago
BEGIN:VTIMEZONE
TZID:America/Chicago
BEGIN:STANDARD
TZNAME:CST
DTSTART:20241103T020000
TZOFFSETFROM:-0500
TZOFFSETTO:-0600
RDATE:20251102T020000
END:STANDARD
BEGIN:DAYLIGHT
TZNAME:CDT
DTSTART:20240310T020000
TZOFFSETFROM:-0600
TZOFFSETTO:-0500
RDATE:20250309T020000
RDATE:20260308T020000
END:DAYLIGHT
END:VTIMEZONE
BEGIN:VEVENT
UID:b62c7033-347f-405b-83f7-8ba3345b2eef
DTSTAMP:20260421T085223Z
DESCRIPTION:Join Conservation Nebraska for a heartwarming and creative even
 t where we transform unwanted clothing into delightful toys for our furry 
 friends in animal shelters! ??\n\nThis is your chance to be part of a comm
 unity effort that combines creativity\, sustainability\, and compassion. W
 hether you're a seasoned crafter or new to upcycling\, everyone is welcome
  to participate!\n\nWhat to Expect:\n● Upcycling Workshop: Learn how to tu
 rn old t-shirts\, jeans\, and other clothing items into durable and fun pe
 t toys.\n● Creative Fun: All necessary crafting materials and tools will b
 e provided. Just bring your creativity\, enthusiasm\, and any clothes you’
 d like to donate!\n● Make a Difference: All toys created during the event 
 will be donated to animal shelters around the state of Nebraska\, providin
 g comfort and enrichment to pets in need.\n● Community Engagement: Connect
  with like-minded individuals who share a passion for animals and sustaina
 bility.\n\nHow You Can Help:\n● Donate Clothing: Bring any unwanted clothi
 ng items you’d like to upcycle (t-shirts\, jeans\, sweatpants). If you do 
 not have clothing that you wish to donate but would still like\nto partici
 pate\, Conservation Nebraska will have additional materials that can be us
 ed.\n● Join the Fun: Come with friends or family and enjoy a day of crafti
 ng and giving back!\n● Spread the Word: Share this event with your friends
  and family to maximize our impact.\n\nBy participating\, you'll be helpin
 g reduce waste\, promoting sustainability\, and making a tangible differen
 ce in the lives of shelter animals!
DTSTART;TZID=America/Chicago:20250216T120000
DTEND;TZID=America/Chicago:20250216T140000
LOCATION:Lincoln City Library\, Bennett Martin Public Library\, Conference 
 Room\, 136 S 14th St\, Lincoln\, NE 68508 US
SUMMARY:DIY Upcycling Event: Pet Toys
END:VEVENT
END:VCALENDAR
