BEGIN:VCALENDAR
VERSION:2.0
PRODID:-//neconserve.org//NONSGML kigkonsult.se iCalcreator 2.30.10//
CALSCALE:GREGORIAN
METHOD:PUBLISH
UID:8ebb96a5-311a-4b81-965b-018c826020f7
X-WR-CALDESC:Join Conservation Nebraska for an informative presentation by 
 Ted LaGrange\, the Wetland Program Manager for the Nebraska Game and Parks
  Commission.\n\nThis event will focus on the vital role of disturbances in
  maintaining the health and resilience of Nebraska's wetlands. Wetlands ar
 e essential ecosystems that provide numerous benefits throughout Nebraska.
 \n\nThe presentation will explore the natural disturbances that occur in w
 etlands and how plants and wildlife adapt to them\; the effects of unnatur
 al\, human disturbances on wetlands\; and how we can manage wetlands and r
 angeland in a way that is both economically viable and ecologically sustai
 nable.\n\nRegister in advance for this webinar:\nhttps://us02web.zoom.us/w
 ebinar/register/WN_Y5L1E3LzSzGbFXYvI1sYrQ
X-WR-RELCALID:904ff9d1cb23eaaf7203417172541325
X-WR-TIMEZONE:America/Chicago
BEGIN:VTIMEZONE
TZID:America/Chicago
BEGIN:STANDARD
TZNAME:CST
DTSTART:20241103T020000
TZOFFSETFROM:-0500
TZOFFSETTO:-0600
RDATE:20251102T020000
END:STANDARD
BEGIN:DAYLIGHT
TZNAME:CDT
DTSTART:20240310T020000
TZOFFSETFROM:-0600
TZOFFSETTO:-0500
RDATE:20250309T020000
RDATE:20260308T020000
END:DAYLIGHT
END:VTIMEZONE
BEGIN:VEVENT
UID:d19efe4e-f9b6-4e47-b6dd-d21692e55278
DTSTAMP:20260421T090427Z
DESCRIPTION:Join Conservation Nebraska for an informative presentation by T
 ed LaGrange\, the Wetland Program Manager for the Nebraska Game and Parks 
 Commission.\n\nThis event will focus on the vital role of disturbances in 
 maintaining the health and resilience of Nebraska's wetlands. Wetlands are
  essential ecosystems that provide numerous benefits throughout Nebraska.
 \n\nThe presentation will explore the natural disturbances that occur in w
 etlands and how plants and wildlife adapt to them\; the effects of unnatur
 al\, human disturbances on wetlands\; and how we can manage wetlands and r
 angeland in a way that is both economically viable and ecologically sustai
 nable.\n\nRegister in advance for this webinar:\nhttps://us02web.zoom.us/w
 ebinar/register/WN_Y5L1E3LzSzGbFXYvI1sYrQ
DTSTART;TZID=America/Chicago:20250213T180000
DTEND;TZID=America/Chicago:20250213T190000
LOCATION:https://us02web.zoom.us/webinar/register/WN_Y5L1E3LzSzGbFXYvI1sYrQ
SUMMARY:The Role of Disturbances in Enhancing Nebraska's Wetland Ecosystems
END:VEVENT
END:VCALENDAR
