BEGIN:VCALENDAR
VERSION:2.0
PRODID:-//neconserve.org//NONSGML kigkonsult.se iCalcreator 2.30.10//
CALSCALE:GREGORIAN
METHOD:PUBLISH
UID:667b6679-527f-4b49-b2cf-78162459fc16
X-WR-CALDESC:Are you looking to transform your outdoor space into a beautif
 ul and sustainable landscape that thrives in Nebraska’s climate? Join Cons
 ervation Nebraska and The Nebraska State Arboretum for an engaging webinar
  on drought-resistant landscaping! Discover how to create a yard or landsc
 aping feature that conserves water\, supports local ecosystems\, and reduc
 es maintenance costs.\n\nThis event will cover:\n? Full Lawn Transformatio
 ns: Learn methods to convert traditional lawns into vibrant\, drought tole
 rant landscapes.\n? Landscaping Features: Not ready to commit to a full ya
 rd transformation\, but interested in creating an eye-catching landscaping
  piece that is also drought tolerant? Join us to learn how to transform yo
 ur landscaping features into a beautiful\, but drought resistant focal poi
 nt.\n? Water-Wise Plants: Explore a variety of native and drought resistan
 t plants that are perfect for Nebraska’s climate.\n\nWhether you’re starti
 ng from scratch or enhancing your current garden\, this workshop is packed
  with practical tips and expert advice to help you create a thriving outdo
 or space.\n\nRegister in advance for this webinar:\nhttps://us02web.zoom.u
 s/webinar/register/WN_F8YJIXBCSgye4j7ml8kTUg
X-WR-RELCALID:e45535ded81fdd2ecebdf0fd7b25b250
X-WR-TIMEZONE:America/Chicago
BEGIN:VTIMEZONE
TZID:America/Chicago
BEGIN:STANDARD
TZNAME:CST
DTSTART:20241103T020000
TZOFFSETFROM:-0500
TZOFFSETTO:-0600
RDATE:20251102T020000
END:STANDARD
BEGIN:DAYLIGHT
TZNAME:CDT
DTSTART:20240310T020000
TZOFFSETFROM:-0600
TZOFFSETTO:-0500
RDATE:20250309T020000
RDATE:20260308T020000
END:DAYLIGHT
END:VTIMEZONE
BEGIN:VEVENT
UID:76967727-45bf-4a7c-b4c3-a24ea611c6cc
DTSTAMP:20260421T085259Z
DESCRIPTION:Are you looking to transform your outdoor space into a beautifu
 l and sustainable landscape that thrives in Nebraska’s climate? Join Conse
 rvation Nebraska and The Nebraska State Arboretum for an engaging webinar 
 on drought-resistant landscaping! Discover how to create a yard or landsca
 ping feature that conserves water\, supports local ecosystems\, and reduce
 s maintenance costs.\n\nThis event will cover:\n? Full Lawn Transformation
 s: Learn methods to convert traditional lawns into vibrant\, drought toler
 ant landscapes.\n? Landscaping Features: Not ready to commit to a full yar
 d transformation\, but interested in creating an eye-catching landscaping 
 piece that is also drought tolerant? Join us to learn how to transform you
 r landscaping features into a beautiful\, but drought resistant focal poin
 t.\n? Water-Wise Plants: Explore a variety of native and drought resistant
  plants that are perfect for Nebraska’s climate.\n\nWhether you’re startin
 g from scratch or enhancing your current garden\, this workshop is packed 
 with practical tips and expert advice to help you create a thriving outdoo
 r space.\n\nRegister in advance for this webinar:\nhttps://us02web.zoom.us
 /webinar/register/WN_F8YJIXBCSgye4j7ml8kTUg
DTSTART;TZID=America/Chicago:20250204T120000
DTEND;TZID=America/Chicago:20250204T130000
LOCATION:https://us02web.zoom.us/webinar/register/WN_F8YJIXBCSgye4j7ml8kTUg
SUMMARY:Drought-Resistant Landscaping
END:VEVENT
END:VCALENDAR
