BEGIN:VCALENDAR
VERSION:2.0
PRODID:-//neconserve.org//NONSGML kigkonsult.se iCalcreator 2.30.10//
CALSCALE:GREGORIAN
METHOD:PUBLISH
UID:534f8f8d-6287-4878-bd94-11b68a59124a
X-WR-CALDESC:Join Conservation Nebraska in a Sustainable Art Competition at
  the Foundry on December 14th at 3:30pm to 5:30pm!\n\nCome out and put you
 r creative skills to the test by making a recycled art craft. We will prov
 ide materials and you will have an hour to make a piece in any form. Entry
  is free and a prize will go to the most-liked piece!\n\nSome art supplies
  will be provided but feel free to bring your own!\n\nLet us know you're c
 oming by registering in advance: https://secure.everyaction.com/y0TKwCME9E
 iKzcKPYiIJVg2
X-WR-RELCALID:3a9feafc655216246ef4abbe5db9e868
X-WR-TIMEZONE:America/Chicago
BEGIN:VTIMEZONE
TZID:America/Chicago
BEGIN:STANDARD
TZNAME:CST
DTSTART:20241103T020000
TZOFFSETFROM:-0500
TZOFFSETTO:-0600
RDATE:20251102T020000
END:STANDARD
BEGIN:DAYLIGHT
TZNAME:CDT
DTSTART:20240310T020000
TZOFFSETFROM:-0600
TZOFFSETTO:-0500
RDATE:20250309T020000
RDATE:20260308T020000
END:DAYLIGHT
END:VTIMEZONE
BEGIN:VEVENT
UID:ed40eed0-a34a-4294-a2f2-e7a4e36e21ea
DTSTAMP:20260422T105103Z
DESCRIPTION:Join Conservation Nebraska in a Sustainable Art Competition at 
 the Foundry on December 14th at 3:30pm to 5:30pm!\n\nCome out and put your
  creative skills to the test by making a recycled art craft. We will provi
 de materials and you will have an hour to make a piece in any form. Entry 
 is free and a prize will go to the most-liked piece!\n\nSome art supplies 
 will be provided but feel free to bring your own!\n\nLet us know you're co
 ming by registering in advance: https://secure.everyaction.com/y0TKwCME9Ei
 KzcKPYiIJVg2
DTSTART;TZID=America/Chicago:20241214T150000
DTEND;TZID=America/Chicago:20241214T173000
LOCATION:The Foundry\, 211 N 14th St\, Lincoln\, NE 68508 US
SUMMARY:Conservation Nebraska Sustainable Art Contest
END:VEVENT
END:VCALENDAR
