BEGIN:VCALENDAR
VERSION:2.0
PRODID:-//neconserve.org//NONSGML kigkonsult.se iCalcreator 2.30.10//
CALSCALE:GREGORIAN
METHOD:PUBLISH
UID:f99d7b13-9ac8-4883-9150-d936fd5bfd53
X-WR-CALDESC:Join the Lincoln Earth Day coalition for our Halfway to Earth 
 Day Celebration!\n\nWe're counting down the days until Earth Day 2025 and 
 want to celebrate our halfway point!\n\nCome out to White Elm Brewing Comp
 any and hang out with the Lincoln Earth Day coalition\, our partners\, and
  fellow Earth Day friends.\n\nPlus\, hear from Anna Oetting\, Sustainabili
 ty Specialist with the City of Lincoln. Anna will give an update on Lincol
 n's Climate Action Plan\, highlighting key initiatives like the Local Food
  System Plan\, Lincoln Biochar Initiative\, and the Heat Pump Incentive Pr
 ogram. Discover how these efforts are advancing sustainability in our comm
 unity and learn how you can get involved!\n\nCome for some or stay for the
  whole evening! Anna will begin her presentation at 6 PM!\n\nSnacks will b
 e provided and drinks will be available for purchase.
X-WR-RELCALID:1386755189f3fd9742099000e5e884b1
X-WR-TIMEZONE:America/Chicago
BEGIN:VTIMEZONE
TZID:America/Chicago
BEGIN:STANDARD
TZNAME:CST
DTSTART:20231105T020000
TZOFFSETFROM:-0500
TZOFFSETTO:-0600
RDATE:20241103T020000
RDATE:20251102T020000
END:STANDARD
BEGIN:DAYLIGHT
TZNAME:CDT
DTSTART:20240310T020000
TZOFFSETFROM:-0600
TZOFFSETTO:-0500
RDATE:20250309T020000
RDATE:20260308T020000
END:DAYLIGHT
END:VTIMEZONE
BEGIN:VEVENT
UID:3780d721-414a-4d8b-a658-47a346f03c79
DTSTAMP:20260420T222224Z
DESCRIPTION:Join the Lincoln Earth Day coalition for our Halfway to Earth D
 ay Celebration!\n\nWe're counting down the days until Earth Day 2025 and w
 ant to celebrate our halfway point!\n\nCome out to White Elm Brewing Compa
 ny and hang out with the Lincoln Earth Day coalition\, our partners\, and 
 fellow Earth Day friends.\n\nPlus\, hear from Anna Oetting\, Sustainabilit
 y Specialist with the City of Lincoln. Anna will give an update on Lincoln
 's Climate Action Plan\, highlighting key initiatives like the Local Food 
 System Plan\, Lincoln Biochar Initiative\, and the Heat Pump Incentive Pro
 gram. Discover how these efforts are advancing sustainability in our commu
 nity and learn how you can get involved!\n\nCome for some or stay for the 
 whole evening! Anna will begin her presentation at 6 PM!\n\nSnacks will be
  provided and drinks will be available for purchase.
DTSTART;TZID=America/Chicago:20241024T173000
DTEND;TZID=America/Chicago:20241024T193000
LOCATION:White Elm Brewing Co.\, 720 Van Dorn St\, Lincoln\, NE 68502 US
SUMMARY:Halfway to Earth Day Celebration
END:VEVENT
END:VCALENDAR
