BEGIN:VCALENDAR
VERSION:2.0
PRODID:-//neconserve.org//NONSGML kigkonsult.se iCalcreator 2.30.10//
CALSCALE:GREGORIAN
METHOD:PUBLISH
UID:5ece7a5b-1fe5-4544-84bc-27b689f3a249
X-WR-CALDESC:Join horticulturist Bob Henrickson from the Nebraska Statewide
  Arboretum for a tour of Aldersgate Gardens at Aldersgate United Methodist
  Church.\n\nThe gardens includes a 1\,000 sq foot rain garden\, extensive 
 native prairie plantings\, a nice variety of woody plants and a nature-bas
 ed playground with an 11-foot\, 1.5-ton section of ash trunk climbing stru
 cture. As more and more homeowners begin to investigate non-traditional op
 tions to turf grass\, we'll explore how Aldersgate is transforming their t
 raditional lawn to something that's more environmentally sustainable and b
 eneficial for pollinators and other wildlife.
X-WR-RELCALID:10827db3784051ece91d748316e57738
X-WR-TIMEZONE:America/Chicago
BEGIN:VTIMEZONE
TZID:America/Chicago
BEGIN:STANDARD
TZNAME:CST
DTSTART:20231105T020000
TZOFFSETFROM:-0500
TZOFFSETTO:-0600
RDATE:20241103T020000
RDATE:20251102T020000
END:STANDARD
BEGIN:DAYLIGHT
TZNAME:CDT
DTSTART:20240310T020000
TZOFFSETFROM:-0600
TZOFFSETTO:-0500
RDATE:20250309T020000
END:DAYLIGHT
END:VTIMEZONE
BEGIN:VEVENT
UID:8e27eba8-4e9f-4991-a7cd-b7f260f5c189
DTSTAMP:20260424T084700Z
DESCRIPTION:Join horticulturist Bob Henrickson from the Nebraska Statewide 
 Arboretum for a tour of Aldersgate Gardens at Aldersgate United Methodist 
 Church.\n\nThe gardens includes a 1\,000 sq foot rain garden\, extensive n
 ative prairie plantings\, a nice variety of woody plants and a nature-base
 d playground with an 11-foot\, 1.5-ton section of ash trunk climbing struc
 ture. As more and more homeowners begin to investigate non-traditional opt
 ions to turf grass\, we'll explore how Aldersgate is transforming their tr
 aditional lawn to something that's more environmentally sustainable and be
 neficial for pollinators and other wildlife.
DTSTART;TZID=America/Chicago:20240629T093000
DTEND;TZID=America/Chicago:20240629T110000
LOCATION:8320 South St\, Lincoln\, NE 68506 US
SUMMARY:Native Landscape Tour at Aldersgate Gardens
END:VEVENT
END:VCALENDAR
