BEGIN:VCALENDAR
VERSION:2.0
PRODID:-//neconserve.org//NONSGML kigkonsult.se iCalcreator 2.30.10//
CALSCALE:GREGORIAN
METHOD:PUBLISH
UID:e0719bea-de10-42b5-bc61-0c7a3c4356e6
X-WR-CALDESC:Please join the Eastridge Green Team and Conservation Nebraska
  in this opportunity to learn and connect with your community! We will hav
 e an educational viewing of Kiss the Ground\, followed by a facilitated co
 mmunity discussion. Lunch will be provided.\n\nRSVP encouraged\, not requi
 red: https://secure.everyaction.com/mrexiDkIgU6iov8wALeh5A2
X-WR-RELCALID:a26de508d7354470e87dbc9f12be00a0
X-WR-TIMEZONE:America/Chicago
BEGIN:VTIMEZONE
TZID:America/Chicago
BEGIN:STANDARD
TZNAME:CST
DTSTART:20231105T020000
TZOFFSETFROM:-0500
TZOFFSETTO:-0600
RDATE:20241103T020000
RDATE:20251102T020000
END:STANDARD
BEGIN:DAYLIGHT
TZNAME:CDT
DTSTART:20240310T020000
TZOFFSETFROM:-0600
TZOFFSETTO:-0500
RDATE:20250309T020000
END:DAYLIGHT
END:VTIMEZONE
BEGIN:VEVENT
UID:bea44bb0-0b25-4972-ab72-13ce64da94c1
DTSTAMP:20260420T065029Z
DESCRIPTION:Please join the Eastridge Green Team and Conservation Nebraska 
 in this opportunity to learn and connect with your community! We will have
  an educational viewing of Kiss the Ground\, followed by a facilitated com
 munity discussion. Lunch will be provided.\n\nRSVP encouraged\, not requir
 ed: https://secure.everyaction.com/mrexiDkIgU6iov8wALeh5A2
DTSTART;TZID=America/Chicago:20240609T110000
DTEND;TZID=America/Chicago:20240609T130000
LOCATION:1135 Eastridge Dr\, Lincoln\, NE 68510 US
SUMMARY:Kiss the Ground Movie Showing and Discussion
END:VEVENT
END:VCALENDAR
