BEGIN:VCALENDAR
VERSION:2.0
PRODID:-//neconserve.org//NONSGML kigkonsult.se iCalcreator 2.30.10//
CALSCALE:GREGORIAN
METHOD:PUBLISH
UID:a5637e06-edf0-4289-aec5-d154448dbcaa
X-WR-CALDESC:Join horticulturist Bob Henrickson from the Nebraska Statewide
  Arboretum for a presentation on Landscaping for Wildlife.\n\nLearn tips a
 nd techniques to create a beautiful garden\, that also supports wildlife. 
 Thoughtful landscaping can help to maintain biodiversity. By offering many
  kinds of native plants\, you are ensuring that a wide range of wildlife c
 an thrive.
X-WR-RELCALID:6f2d4e72f7892a348324916914d3ff7f
X-WR-TIMEZONE:America/Chicago
BEGIN:VTIMEZONE
TZID:America/Chicago
BEGIN:STANDARD
TZNAME:CST
DTSTART:20231105T020000
TZOFFSETFROM:-0500
TZOFFSETTO:-0600
RDATE:20241103T020000
RDATE:20251102T020000
END:STANDARD
BEGIN:DAYLIGHT
TZNAME:CDT
DTSTART:20240310T020000
TZOFFSETFROM:-0600
TZOFFSETTO:-0500
RDATE:20250309T020000
END:DAYLIGHT
END:VTIMEZONE
BEGIN:VEVENT
UID:7bc5b07e-ef0a-4ff8-be0b-38f7ff6cb212
DTSTAMP:20260419T231343Z
DESCRIPTION:Join horticulturist Bob Henrickson from the Nebraska Statewide 
 Arboretum for a presentation on Landscaping for Wildlife.\n\nLearn tips an
 d techniques to create a beautiful garden\, that also supports wildlife. T
 houghtful landscaping can help to maintain biodiversity. By offering many 
 kinds of native plants\, you are ensuring that a wide range of wildlife ca
 n thrive.
DTSTART;TZID=America/Chicago:20240520T180000
DTEND;TZID=America/Chicago:20240520T190000
LOCATION:https://us02web.zoom.us/.../reg.../WN_Wwsx_y0QTyalpZtEtP2EvQ
SUMMARY:Landscaping for Wildlife
END:VEVENT
END:VCALENDAR
